BEGIN:VCALENDAR
VERSION:2.0
PRODID:-//185.201.65.222//NONSGML kigkonsult.se iCalcreator 2.20//
CALSCALE:GREGORIAN
METHOD:PUBLISH
X-WR-TIMEZONE:Europe/Rome
BEGIN:VEVENT
UID:event355@ecovillaggi.it
DTSTAMP:20260424T213806Z
CATEGORIES:Eventi Ecovillaggi
DESCRIPTION:Tempo di Vivere - Seminario online gratuito I sintomi\, la voce
  del tuo corpo\nCategoria: Eventi Ecovillaggi\nLink: https://ecovillaggi.i
 t/index.php?option=com_jem&view=event&id=355:seminario-gratuito-online-sin
 tomi25\n
DTSTART;TZID=Europe/Rome:20251217T200000
DTEND;TZID=Europe/Rome:20251217T223000
SUMMARY:Tempo di Vivere - Seminario online gratuito I sintomi\, la voce del
  tuo corpo
URL:https://ecovillaggi.it/index.php?option=com_jem&view=event&id=355:semin
 ario-gratuito-online-sintomi25
END:VEVENT
END:VCALENDAR