BEGIN:VCALENDAR
VERSION:2.0
PRODID:-//185.201.65.222//NONSGML kigkonsult.se iCalcreator 2.20//
CALSCALE:GREGORIAN
METHOD:PUBLISH
X-WR-TIMEZONE:Europe/Rome
BEGIN:VEVENT
UID:event354@ecovillaggi.it
DTSTAMP:20260425T024320Z
CATEGORIES:Eventi Ecovillaggi
DESCRIPTION:Tempo di Vivere e Albero della Vita Seminario gratuito online E
 VOLVERE LA RELAZIONE\nCategoria: Eventi Ecovillaggi\nLink: https://ecovill
 aggi.it/index.php?option=com_jem&view=event&id=354:seminario-gratuito-onli
 ne-evolvere-la-relazione\n
DTSTART;TZID=Europe/Rome:20250120T203000
DTEND;TZID=Europe/Rome:20250120T223000
SUMMARY:Tempo di Vivere e Albero della Vita Seminario gratuito online EVOLV
 ERE LA RELAZIONE
URL:https://ecovillaggi.it/index.php?option=com_jem&view=event&id=354:semin
 ario-gratuito-online-evolvere-la-relazione
END:VEVENT
END:VCALENDAR