BEGIN:VCALENDAR
VERSION:2.0
PRODID:-//185.201.65.222//NONSGML kigkonsult.se iCalcreator 2.20//
CALSCALE:GREGORIAN
METHOD:PUBLISH
X-WR-TIMEZONE:Europe/Rome
BEGIN:VEVENT
UID:event352@ecovillaggi.it
DTSTAMP:20260425T024039Z
CATEGORIES:Eventi Ecovillaggi
DESCRIPTION:Tempo di Vivere: Playfight\nCategoria: Eventi Ecovillaggi\nLink
 : https://ecovillaggi.it/index.php?option=com_jem&view=event&id=352:playfi
 ght-tempo-di-vivere\n
DTSTART;TZID=Europe/Rome:20250119T150000
DTEND;TZID=Europe/Rome:20250119T193000
SUMMARY:Tempo di Vivere: Playfight
URL:https://ecovillaggi.it/index.php?option=com_jem&view=event&id=352:playf
 ight-tempo-di-vivere
END:VEVENT
END:VCALENDAR