BEGIN:VCALENDAR
VERSION:2.0
PRODID:-//185.201.65.222//NONSGML kigkonsult.se iCalcreator 2.20//
CALSCALE:GREGORIAN
METHOD:PUBLISH
X-WR-TIMEZONE:Europe/Rome
BEGIN:VEVENT
UID:event351@ecovillaggi.it
DTSTAMP:20260425T021936Z
CATEGORIES:Eventi soci sostenitori
DESCRIPTION:Capodanno Alchemico Comunitario\nCategoria: Eventi soci sosteni
 tori\nLink: https://ecovillaggi.it/index.php?option=com_jem&view=event&id=
 351:capodanno-alchemico-comunitario\n
DTSTART;TZID=Europe/Rome:20241227T160000
DTEND;TZID=Europe/Rome:20250102T120000
LOCATION:Casa Mapu\,Via Quartiero\,36015 Schio
SUMMARY:Capodanno Alchemico Comunitario
URL:https://ecovillaggi.it/index.php?option=com_jem&view=event&id=351:capod
 anno-alchemico-comunitario
END:VEVENT
END:VCALENDAR