BEGIN:VCALENDAR
VERSION:2.0
PRODID:-//185.201.65.222//NONSGML kigkonsult.se iCalcreator 2.20//
CALSCALE:GREGORIAN
METHOD:PUBLISH
X-WR-TIMEZONE:Europe/Rome
BEGIN:VEVENT
UID:event350@ecovillaggi.it
DTSTAMP:20260425T023523Z
CATEGORIES:Eventi Ecovillaggi
DESCRIPTION:ESPERIENZIALE  da 1 a 10 GIORNI in ECOVILLAGGIO\nCategoria: Eve
 nti Ecovillaggi\nLink: https://ecovillaggi.it/index.php?option=com_jem&vie
 w=event&id=350:esperienziale-da-1-a-10-giorni-in-ecovillaggio\n
DTSTART;VALUE=DATE:20250101
DTEND;VALUE=DATE:20250113
SUMMARY:ESPERIENZIALE  da 1 a 10 GIORNI in ECOVILLAGGIO
URL:https://ecovillaggi.it/index.php?option=com_jem&view=event&id=350:esper
 ienziale-da-1-a-10-giorni-in-ecovillaggio
END:VEVENT
END:VCALENDAR