BEGIN:VCALENDAR
VERSION:2.0
PRODID:-//185.201.65.222//NONSGML kigkonsult.se iCalcreator 2.20//
CALSCALE:GREGORIAN
METHOD:PUBLISH
X-WR-TIMEZONE:Europe/Rome
BEGIN:VEVENT
UID:event349@ecovillaggi.it
DTSTAMP:20260425T023101Z
CATEGORIES:Eventi Ecovillaggi
DESCRIPTION:Tempo di Vivere e Albero della Vita: Open Day\nCategoria: Event
 i Ecovillaggi\nLink: https://ecovillaggi.it/index.php?option=com_jem&view=
 event&id=349:open-day-dicembre-tempo-albero\n
DTSTART;TZID=Europe/Rome:20250112T103000
DTEND;TZID=Europe/Rome:20250112T180000
LOCATION:Ecovillaggio Tempo di Vivere\,Loc. Camera Vecchia di Calenzano\,29
 021 Bettola
SUMMARY:Tempo di Vivere e Albero della Vita: Open Day
URL:https://ecovillaggi.it/index.php?option=com_jem&view=event&id=349:open-
 day-dicembre-tempo-albero
END:VEVENT
END:VCALENDAR