BEGIN:VCALENDAR
VERSION:2.0
PRODID:-//185.201.65.222//NONSGML kigkonsult.se iCalcreator 2.20//
CALSCALE:GREGORIAN
METHOD:PUBLISH
X-WR-TIMEZONE:Europe/Rome
BEGIN:VEVENT
UID:event348@ecovillaggi.it
DTSTAMP:20260425T023640Z
CATEGORIES:Eventi Ecovillaggi
DESCRIPTION:OPEN DAY ECOVILLAGGIO ALPE PIANELLO\nCategoria: Eventi Ecovilla
 ggi\nLink: https://ecovillaggi.it/index.php?option=com_jem&view=event&id=3
 48:open-day-ecovillaggio-alpe-pianello\n
DTSTART;TZID=Europe/Rome:20241116T100000
DTEND;TZID=Europe/Rome:20241116T170000
SUMMARY:OPEN DAY ECOVILLAGGIO ALPE PIANELLO
URL:https://ecovillaggi.it/index.php?option=com_jem&view=event&id=348:open-
 day-ecovillaggio-alpe-pianello
END:VEVENT
END:VCALENDAR