BEGIN:VCALENDAR
VERSION:2.0
PRODID:-//185.201.65.222//NONSGML kigkonsult.se iCalcreator 2.20//
CALSCALE:GREGORIAN
METHOD:PUBLISH
X-WR-TIMEZONE:Europe/Rome
BEGIN:VEVENT
UID:event347@ecovillaggi.it
DTSTAMP:20260425T023523Z
CATEGORIES:Eventi Ecovillaggi
DESCRIPTION:Introduzione alla Sociocrazia\nCategoria: Eventi Ecovillaggi\nL
 ink: https://ecovillaggi.it/index.php?option=com_jem&view=event&id=347:int
 roduzione-alla-sociocrazia\n
DTSTART;TZID=Europe/Rome:20241117T094500
DTEND;TZID=Europe/Rome:20241117T183000
LOCATION:Cohousing Base Gaia\,Via Crescenzago 101\,20132 Milano
SUMMARY:Introduzione alla Sociocrazia
URL:https://ecovillaggi.it/index.php?option=com_jem&view=event&id=347:intro
 duzione-alla-sociocrazia
END:VEVENT
END:VCALENDAR