BEGIN:VCALENDAR
VERSION:2.0
PRODID:-//185.201.65.222//NONSGML kigkonsult.se iCalcreator 2.20//
CALSCALE:GREGORIAN
METHOD:PUBLISH
X-WR-TIMEZONE:Europe/Rome
BEGIN:VEVENT
UID:event344@ecovillaggi.it
DTSTAMP:20260424T231426Z
CATEGORIES:Eventi Ecovillaggi
DESCRIPTION:Tempo di Vivere - Costruire un forno in terra cruda\nCategoria:
  Eventi Ecovillaggi\nLink: https://ecovillaggi.it/index.php?option=com_jem
 &view=event&id=344:tempo-di-vivere-costruire-forno-terra-cruda\n
DTSTART;TZID=Europe/Rome:20250523T150000
DTEND;TZID=Europe/Rome:20250525T180000
LOCATION:Ecovillaggio Tempo di Vivere\,Loc. Camera Vecchia di Calenzano\,29
 021 Bettola
SUMMARY:Tempo di Vivere - Costruire un forno in terra cruda
URL:https://ecovillaggi.it/index.php?option=com_jem&view=event&id=344:tempo
 -di-vivere-costruire-forno-terra-cruda
END:VEVENT
END:VCALENDAR