BEGIN:VCALENDAR
VERSION:2.0
PRODID:-//185.201.65.222//NONSGML kigkonsult.se iCalcreator 2.20//
CALSCALE:GREGORIAN
METHOD:PUBLISH
X-WR-TIMEZONE:Europe/Rome
BEGIN:VEVENT
UID:event343@ecovillaggi.it
DTSTAMP:20260425T024056Z
CATEGORIES:Eventi Ecovillaggi
DESCRIPTION:Tempo di Vivere - Capodanno in ecovillaggio - Cambiare il mondo
  è un gioco 2.0\nCategoria: Eventi Ecovillaggi\nLink: https://ecovillaggi.
 it/index.php?option=com_jem&view=event&id=343:tempo-di-vivere-capodanno-ec
 ovillaggio-cambiare-mondo-gioco\n
DTSTART;TZID=Europe/Rome:20241228T183000
DTEND;TZID=Europe/Rome:20250104T110000
LOCATION:Ecovillaggio Tempo di Vivere\,Loc. Camera Vecchia di Calenzano\,29
 021 Bettola
SUMMARY:Tempo di Vivere - Capodanno in ecovillaggio - Cambiare il mondo è u
 n gioco 2.0
URL:https://ecovillaggi.it/index.php?option=com_jem&view=event&id=343:tempo
 -di-vivere-capodanno-ecovillaggio-cambiare-mondo-gioco
END:VEVENT
END:VCALENDAR