BEGIN:VCALENDAR
VERSION:2.0
PRODID:-//185.201.65.222//NONSGML kigkonsult.se iCalcreator 2.20//
CALSCALE:GREGORIAN
METHOD:PUBLISH
X-WR-TIMEZONE:Europe/Rome
BEGIN:VEVENT
UID:event341@ecovillaggi.it
DTSTAMP:20260425T024212Z
CATEGORIES:Eventi Ecovillaggi
DESCRIPTION:Tempo di Vivere e L'Albero della Vita - 2° modulo prova Costell
 azioni Familiari Sistemiche\nCategoria: Eventi Ecovillaggi\nLink: https://
 ecovillaggi.it/index.php?option=com_jem&view=event&id=341:costellazioni-fa
 miliari-sistemiche\n
DTSTART;TZID=Europe/Rome:20241123T100000
DTEND;TZID=Europe/Rome:20241124T180000
SUMMARY:Tempo di Vivere e L'Albero della Vita - 2° modulo prova Costellazio
 ni Familiari Sistemiche
URL:https://ecovillaggi.it/index.php?option=com_jem&view=event&id=341:coste
 llazioni-familiari-sistemiche
END:VEVENT
END:VCALENDAR