BEGIN:VCALENDAR
VERSION:2.0
PRODID:-//185.201.65.222//NONSGML kigkonsult.se iCalcreator 2.20//
CALSCALE:GREGORIAN
METHOD:PUBLISH
X-WR-TIMEZONE:Europe/Rome
BEGIN:VEVENT
UID:event340@ecovillaggi.it
DTSTAMP:20260425T022133Z
CATEGORIES:Eventi Ecovillaggi
DESCRIPTION:Tempo di Vivere e L'Albero della Vita - 3° modulo prova Il corp
 o\, una porta di accesso alla consapevolezza interiore.\nCategoria: Eventi
  Ecovillaggi\nLink: https://ecovillaggi.it/index.php?option=com_jem&view=e
 vent&id=340:corpo-consapevolezza-interiore\n
DTSTART;TZID=Europe/Rome:20241214T100000
DTEND;TZID=Europe/Rome:20241215T180000
SUMMARY:Tempo di Vivere e L'Albero della Vita - 3° modulo prova Il corpo\, 
 una porta di accesso alla consapevolezza interiore.
URL:https://ecovillaggi.it/index.php?option=com_jem&view=event&id=340:corpo
 -consapevolezza-interiore
END:VEVENT
END:VCALENDAR