BEGIN:VCALENDAR
VERSION:2.0
PRODID:-//185.201.65.222//NONSGML kigkonsult.se iCalcreator 2.20//
CALSCALE:GREGORIAN
METHOD:PUBLISH
X-WR-TIMEZONE:Europe/Rome
BEGIN:VEVENT
UID:event334@ecovillaggi.it
DTSTAMP:20260425T043106Z
CATEGORIES:Eventi Ecovillaggi
DESCRIPTION:Gli Alberi\, “il Popolo in piedi” (ritiro di 2 giorni) - ALPE P
 IANELLO\nCategoria: Eventi Ecovillaggi\nLink: https://ecovillaggi.it/index
 .php?option=com_jem&view=event&id=334:gli-alberi-il-popolo-in-piedi-ritiro
 -di-2-giorni-alpe-pianello\n
DTSTART;TZID=Europe/Rome:20240907T100000
DTEND;TZID=Europe/Rome:20240908T170000
SUMMARY:Gli Alberi\, “il Popolo in piedi” (ritiro di 2 giorni) - ALPE PIANE
 LLO
URL:https://ecovillaggi.it/index.php?option=com_jem&view=event&id=334:gli-a
 lberi-il-popolo-in-piedi-ritiro-di-2-giorni-alpe-pianello
END:VEVENT
END:VCALENDAR