BEGIN:VCALENDAR
VERSION:2.0
PRODID:-//185.201.65.222//NONSGML kigkonsult.se iCalcreator 2.20//
CALSCALE:GREGORIAN
METHOD:PUBLISH
X-WR-TIMEZONE:Europe/Rome
BEGIN:VEVENT
UID:event311@ecovillaggi.it
DTSTAMP:20260425T042851Z
CATEGORIES:Eventi soci sostenitori
DESCRIPTION:Terramore Living Lab: ARMONIE SELVATICHE\nCategoria: Eventi soc
 i sostenitori\nLink: https://ecovillaggi.it/index.php?option=com_jem&view=
 event&id=311:terramore-living-lab-armonie-selvatiche\n
DTSTART;TZID=Europe/Rome:20240621T103000
DTEND;TZID=Europe/Rome:20240623T150000
SUMMARY:Terramore Living Lab: ARMONIE SELVATICHE
URL:https://ecovillaggi.it/index.php?option=com_jem&view=event&id=311:terra
 more-living-lab-armonie-selvatiche
END:VEVENT
END:VCALENDAR