BEGIN:VCALENDAR
VERSION:2.0
PRODID:-//185.201.65.222//NONSGML kigkonsult.se iCalcreator 2.20//
CALSCALE:GREGORIAN
METHOD:PUBLISH
X-WR-TIMEZONE:Europe/Rome
BEGIN:VEVENT
UID:event269@ecovillaggi.it
DTSTAMP:20260425T042514Z
CATEGORIES:Eventi Ecovillaggi
DESCRIPTION:La Via del Cambiamento - Circleway Academy 8° Modulo\nCategoria
 : Eventi Ecovillaggi\nLink: https://ecovillaggi.it/index.php?option=com_je
 m&view=event&id=269:via-del-cambiamento\n
DTSTART;TZID=Europe/Rome:20240928T101900
DTEND;TZID=Europe/Rome:20240929T091800
LOCATION:Ecovillaggio Tempo di Vivere\,Loc. Camera Vecchia di Calenzano\,29
 021 Bettola
SUMMARY:La Via del Cambiamento - Circleway Academy 8° Modulo
URL:https://ecovillaggi.it/index.php?option=com_jem&view=event&id=269:via-d
 el-cambiamento
END:VEVENT
END:VCALENDAR