BEGIN:VCALENDAR
VERSION:2.0
PRODID:-//185.201.65.222//NONSGML kigkonsult.se iCalcreator 2.20//
CALSCALE:GREGORIAN
METHOD:PUBLISH
X-WR-TIMEZONE:Europe/Rome
BEGIN:VEVENT
UID:event181@ecovillaggi.it
DTSTAMP:20260425T031052Z
CATEGORIES:Eventi Ecovillaggi
DESCRIPTION:Tempo di Vivere - Circleway Academy 2° modulo\nCategoria: Event
 i Ecovillaggi\nLink: https://ecovillaggi.it/index.php?option=com_jem&view=
 event&id=181:circleway-academy\n
DTSTART;TZID=Europe/Rome:20230225T100000
DTEND;TZID=Europe/Rome:20230226T180000
LOCATION:Ecovillaggio Tempo di Vivere\,Loc. Camera Vecchia di Calenzano\,29
 021 Bettola
SUMMARY:Tempo di Vivere - Circleway Academy 2° modulo
URL:https://ecovillaggi.it/index.php?option=com_jem&view=event&id=181:circl
 eway-academy
END:VEVENT
END:VCALENDAR