BEGIN:VCALENDAR
VERSION:2.0
PRODID:-//185.201.65.222//NONSGML kigkonsult.se iCalcreator 2.20//
CALSCALE:GREGORIAN
METHOD:PUBLISH
X-WR-TIMEZONE:Europe/Rome
BEGIN:VEVENT
UID:event173@ecovillaggi.it
DTSTAMP:20260425T030913Z
CATEGORIES:Eventi Ecovillaggi
DESCRIPTION:Tempo di Vivere - Creare comunità: trasformare il sogno in real
 tà\nCategoria: Eventi Ecovillaggi\nLink: https://ecovillaggi.it/index.php?
 option=com_jem&view=event&id=173:creare-comunita-tempodivivere\n
DTSTART;TZID=Europe/Rome:20221114T203000
DTEND;TZID=Europe/Rome:20221114T224500
LOCATION:Ecovillaggio Tempo di Vivere\,Loc. Camera Vecchia di Calenzano\,29
 021 Bettola
SUMMARY:Tempo di Vivere - Creare comunità: trasformare il sogno in realtà
URL:https://ecovillaggi.it/index.php?option=com_jem&view=event&id=173:crear
 e-comunita-tempodivivere
END:VEVENT
END:VCALENDAR