BEGIN:VCALENDAR
VERSION:2.0
PRODID:-//185.201.65.222//NONSGML kigkonsult.se iCalcreator 2.20//
CALSCALE:GREGORIAN
METHOD:PUBLISH
X-WR-TIMEZONE:Europe/Rome
BEGIN:VEVENT
UID:event161@ecovillaggi.it
DTSTAMP:20260425T032635Z
CATEGORIES:Eventi Ecovillaggi
DESCRIPTION:Tempo di Vivere - Sulle orme della tribù - Laboratorio di vita 
 comunitaria\nCategoria: Eventi Ecovillaggi\nLink: https://ecovillaggi.it/i
 ndex.php?option=com_jem&view=event&id=161:laboratorio-di-comunita-tdv\n
DTSTART;TZID=Europe/Rome:20220617T180000
DTEND;TZID=Europe/Rome:20220623T110000
LOCATION:Ecovillaggio Tempo di Vivere\,Loc. Camera Vecchia di Calenzano\,29
 021 Bettola
SUMMARY:Tempo di Vivere - Sulle orme della tribù - Laboratorio di vita comu
 nitaria
URL:https://ecovillaggi.it/index.php?option=com_jem&view=event&id=161:labor
 atorio-di-comunita-tdv
END:VEVENT
END:VCALENDAR