BEGIN:VCALENDAR
VERSION:2.0
PRODID:-//185.201.65.222//NONSGML kigkonsult.se iCalcreator 2.20//
CALSCALE:GREGORIAN
METHOD:PUBLISH
X-WR-TIMEZONE:Europe/Rome
BEGIN:VEVENT
UID:event149@ecovillaggi.it
DTSTAMP:20260425T033158Z
CATEGORIES:Eventi Ecovillaggi
DESCRIPTION:Comunicazione ecologica e gestione dei conflitti - online\nCate
 goria: Eventi Ecovillaggi\nLink: https://ecovillaggi.it/index.php?option=c
 om_jem&view=event&id=149:comunicazione-ecologica-gestione-conflitti-online
 \n
DTSTART;TZID=Europe/Rome:20220620T203000
DTEND;TZID=Europe/Rome:20220620T224500
LOCATION:Ecovillaggio Tempo di Vivere\,Loc. Camera Vecchia di Calenzano\,29
 021 Bettola
SUMMARY:Comunicazione ecologica e gestione dei conflitti - online
URL:https://ecovillaggi.it/index.php?option=com_jem&view=event&id=149:comun
 icazione-ecologica-gestione-conflitti-online
END:VEVENT
END:VCALENDAR