BEGIN:VCALENDAR
VERSION:2.0
PRODID:-//185.201.65.222//NONSGML kigkonsult.se iCalcreator 2.20//
CALSCALE:GREGORIAN
METHOD:PUBLISH
X-WR-TIMEZONE:Europe/Rome
BEGIN:VEVENT
UID:event141@ecovillaggi.it
DTSTAMP:20260425T033002Z
CATEGORIES:Eventi Ecovillaggi
DESCRIPTION:Tempo di Vivere La via del Cerchio di Manitonquat - Summercamp
 \nCategoria: Eventi Ecovillaggi\nLink: https://ecovillaggi.it/index.php?op
 tion=com_jem&view=event&id=141:summercamp-via-del-cerchio-manitonquat\n
DTSTART;TZID=Europe/Rome:20220802T150000
DTEND;TZID=Europe/Rome:20220811T120000
LOCATION:Ecovillaggio Tempo di Vivere\,Loc. Camera Vecchia di Calenzano\,29
 021 Bettola
SUMMARY:Tempo di Vivere La via del Cerchio di Manitonquat - Summercamp
URL:https://ecovillaggi.it/index.php?option=com_jem&view=event&id=141:summe
 rcamp-via-del-cerchio-manitonquat
END:VEVENT
END:VCALENDAR