BEGIN:VCALENDAR
VERSION:2.0
PRODID:-//185.201.65.222//NONSGML kigkonsult.se iCalcreator 2.20//
CALSCALE:GREGORIAN
METHOD:PUBLISH
X-WR-TIMEZONE:Europe/Rome
BEGIN:VEVENT
UID:event140@ecovillaggi.it
DTSTAMP:20260425T032855Z
CATEGORIES:Eventi Ecovillaggi
DESCRIPTION:Alla scoperta dell'Ecovillaggio - Campo Estivo per ragazzi\nCat
 egoria: Eventi Ecovillaggi\nLink: https://ecovillaggi.it/index.php?option=
 com_jem&view=event&id=140:alla-scoperta-dell-ecovillaggio-camp-ragazzi\n
DTSTART;TZID=Europe/Rome:20220818T160000
DTEND;TZID=Europe/Rome:20220824T120000
LOCATION:Ecovillaggio Tempo di Vivere\,Loc. Camera Vecchia di Calenzano\,29
 021 Bettola
SUMMARY:Alla scoperta dell'Ecovillaggio - Campo Estivo per ragazzi
URL:https://ecovillaggi.it/index.php?option=com_jem&view=event&id=140:alla-
 scoperta-dell-ecovillaggio-camp-ragazzi
END:VEVENT
END:VCALENDAR