BEGIN:VCALENDAR
VERSION:2.0
PRODID:-//185.201.65.222//NONSGML kigkonsult.se iCalcreator 2.20//
CALSCALE:GREGORIAN
METHOD:PUBLISH
X-WR-TIMEZONE:Europe/Rome
BEGIN:VEVENT
UID:event137@ecovillaggi.it
DTSTAMP:20260425T013128Z
CATEGORIES:Eventi Ecovillaggi
DESCRIPTION:Open Day - All'Ecovillaggio Tempo di Vivere\nCategoria: Eventi 
 Ecovillaggi\nLink: https://ecovillaggi.it/index.php?option=com_jem&view=ev
 ent&id=137:open-day-tempodivivere\n
DTSTART;TZID=Europe/Rome:20220425T113000
DTEND;TZID=Europe/Rome:20220425T180000
LOCATION:Ecovillaggio Tempo di Vivere\,Loc. Camera Vecchia di Calenzano\,29
 021 Bettola
SUMMARY:Open Day - All'Ecovillaggio Tempo di Vivere
URL:https://ecovillaggi.it/index.php?option=com_jem&view=event&id=137:open-
 day-tempodivivere
END:VEVENT
END:VCALENDAR