BEGIN:VCALENDAR
VERSION:2.0
PRODID:-//185.201.65.222//NONSGML kigkonsult.se iCalcreator 2.20//
CALSCALE:GREGORIAN
METHOD:PUBLISH
X-WR-TIMEZONE:Europe/Rome
BEGIN:VEVENT
UID:event126@ecovillaggi.it
DTSTAMP:20260425T032814Z
CATEGORIES:Eventi Ecovillaggi
DESCRIPTION:Tempo di Vivere - I sintomi\, la voce del tuo corpo Percorso on
 line\nCategoria: Eventi Ecovillaggi\nLink: https://ecovillaggi.it/index.ph
 p?option=com_jem&view=event&id=126:sintomi-voce-corpo-percorso-tempodivive
 re\n
DTSTART;TZID=Europe/Rome:20220331T203000
DTEND;TZID=Europe/Rome:20220331T223000
LOCATION:Ecovillaggio Tempo di Vivere\,Loc. Camera Vecchia di Calenzano\,29
 021 Bettola
SUMMARY:Tempo di Vivere - I sintomi\, la voce del tuo corpo Percorso online
URL:https://ecovillaggi.it/index.php?option=com_jem&view=event&id=126:sinto
 mi-voce-corpo-percorso-tempodivivere
END:VEVENT
END:VCALENDAR