BEGIN:VCALENDAR
VERSION:2.0
PRODID:-//185.201.65.222//NONSGML kigkonsult.se iCalcreator 2.20//
CALSCALE:GREGORIAN
METHOD:PUBLISH
X-WR-TIMEZONE:Europe/Rome
BEGIN:VEVENT
UID:event122@ecovillaggi.it
DTSTAMP:20260425T030225Z
CATEGORIES:Eventi Ecovillaggi
DESCRIPTION:Tempo di Vivere - Seminario gratuito Creare comunità: trasforma
 re il sogno in realtà\nCategoria: Eventi Ecovillaggi\nLink: https://ecovil
 laggi.it/index.php?option=com_jem&view=event&id=122:creare-comunita-tempod
 ivivere\n
DTSTART;TZID=Europe/Rome:20220321T203000
DTEND;TZID=Europe/Rome:20220321T224500
LOCATION:Ecovillaggio Tempo di Vivere\,Loc. Camera Vecchia di Calenzano\,29
 021 Bettola
SUMMARY:Tempo di Vivere - Seminario gratuito Creare comunità: trasformare i
 l sogno in realtà
URL:https://ecovillaggi.it/index.php?option=com_jem&view=event&id=122:crear
 e-comunita-tempodivivere
END:VEVENT
END:VCALENDAR