BEGIN:VCALENDAR
VERSION:2.0
PRODID:-//185.201.65.222//NONSGML kigkonsult.se iCalcreator 2.20//
CALSCALE:GREGORIAN
METHOD:PUBLISH
X-WR-TIMEZONE:Europe/Rome
BEGIN:VEVENT
UID:event110@ecovillaggi.it
DTSTAMP:20260425T000034Z
CATEGORIES:Eventi Ecovillaggi
DESCRIPTION:Tempo di Vivere - Corso online di autoproduzione di cosmetici e
  prodotti per l'igiene personale\nCategoria: Eventi Ecovillaggi\nLink: htt
 ps://ecovillaggi.it/index.php?option=com_jem&view=event&id=110:tempodivive
 re-faidate-cosmetici-naturali\n
DTSTART;VALUE=DATE:20220214
DTEND;VALUE=DATE:20220215
LOCATION:Ecovillaggio Tempo di Vivere\,Loc. Camera Vecchia di Calenzano\,29
 021 Bettola
SUMMARY:Tempo di Vivere - Corso online di autoproduzione di cosmetici e pro
 dotti per l'igiene personale
URL:https://ecovillaggi.it/index.php?option=com_jem&view=event&id=110:tempo
 divivere-faidate-cosmetici-naturali
END:VEVENT
END:VCALENDAR