BEGIN:VCALENDAR
VERSION:2.0
PRODID:-//185.201.65.222//NONSGML kigkonsult.se iCalcreator 2.20//
CALSCALE:GREGORIAN
METHOD:PUBLISH
X-WR-TIMEZONE:Europe/Rome
BEGIN:VEVENT
UID:event109@ecovillaggi.it
DTSTAMP:20260425T000041Z
CATEGORIES:Eventi Ecovillaggi
DESCRIPTION:Tempo di Vivere - Corso online di autoproduzione di saponi natu
 rali e detergenti per la casa\nCategoria: Eventi Ecovillaggi\nLink: https:
 //ecovillaggi.it/index.php?option=com_jem&view=event&id=109:tempodivivere-
 faidate-cosmetici-naturali\n
DTSTART;TZID=Europe/Rome:20220222T203000
DTEND;TZID=Europe/Rome:20220222T224500
LOCATION:Ecovillaggio Tempo di Vivere\,Loc. Camera Vecchia di Calenzano\,29
 021 Bettola
SUMMARY:Tempo di Vivere - Corso online di autoproduzione di saponi naturali
  e detergenti per la casa
URL:https://ecovillaggi.it/index.php?option=com_jem&view=event&id=109:tempo
 divivere-faidate-cosmetici-naturali
END:VEVENT
END:VCALENDAR