BEGIN:VCALENDAR
VERSION:2.0
PRODID:-//185.201.65.222//NONSGML kigkonsult.se iCalcreator 2.20//
CALSCALE:GREGORIAN
METHOD:PUBLISH
X-WR-TIMEZONE:Europe/Rome
BEGIN:VEVENT
UID:event106@ecovillaggi.it
DTSTAMP:20260424T235046Z
CATEGORIES:Eventi Ecovillaggi
DESCRIPTION:Verso un Rinascimento Planetario\nCategoria: Eventi Ecovillaggi
 \nLink: https://ecovillaggi.it/index.php?option=com_jem&view=event&id=106:
 verso-un-rinascimento-planetario\n
DTSTART;VALUE=DATE:20211210
DTEND;VALUE=DATE:20211213
SUMMARY:Verso un Rinascimento Planetario
URL:https://ecovillaggi.it/index.php?option=com_jem&view=event&id=106:verso
 -un-rinascimento-planetario
END:VEVENT
END:VCALENDAR