BEGIN:VCALENDAR
VERSION:2.0
PRODID:-//185.201.65.222//NONSGML kigkonsult.se iCalcreator 2.20//
CALSCALE:GREGORIAN
METHOD:PUBLISH
X-WR-TIMEZONE:Europe/Rome
BEGIN:VEVENT
UID:event455@ecovillaggi.it
DTSTAMP:20260424T183703Z
CATEGORIES:Eventi Ecovillaggi
DESCRIPTION:Tempo di Vivere - Campo Estivo per ragazzi - Luglio 2026\nCateg
 oria: Eventi Ecovillaggi\nLink: https://ecovillaggi.it/index.php?option=co
 m_jem&view=event&id=455:tempo-di-vivere-campo-estivo-per-ragazzi-luglio-20
 26\n
DTSTART;TZID=Europe/Rome:20260721T160000
DTEND;TZID=Europe/Rome:20260728T110000
LOCATION:Ecovillaggio Tempo di Vivere\,Loc. Camera Vecchia di Calenzano\,29
 021 Bettola\,Italy
SUMMARY:Tempo di Vivere - Campo Estivo per ragazzi - Luglio 2026
URL:https://ecovillaggi.it/index.php?option=com_jem&view=event&id=455:tempo
 -di-vivere-campo-estivo-per-ragazzi-luglio-2026
END:VEVENT
BEGIN:VEVENT
UID:event455@ecovillaggi.it
DTSTAMP:20260424T183703Z
CATEGORIES:Eventi Ecovillaggi
DESCRIPTION:Tempo di Vivere - Campo Estivo per ragazzi - Luglio 2026\nCateg
 oria: Eventi Ecovillaggi\nLink: https://ecovillaggi.it/index.php?option=co
 m_jem&view=event&id=455:tempo-di-vivere-campo-estivo-per-ragazzi-luglio-20
 26\n
DTSTART;TZID=Europe/Rome:20260722T160000
DTEND;TZID=Europe/Rome:20260728T110000
LOCATION:Ecovillaggio Tempo di Vivere\,Loc. Camera Vecchia di Calenzano\,29
 021 Bettola\,Italy
SUMMARY:Tempo di Vivere - Campo Estivo per ragazzi - Luglio 2026
URL:https://ecovillaggi.it/index.php?option=com_jem&view=event&id=455:tempo
 -di-vivere-campo-estivo-per-ragazzi-luglio-2026
END:VEVENT
BEGIN:VEVENT
UID:event455@ecovillaggi.it
DTSTAMP:20260424T183703Z
CATEGORIES:Eventi Ecovillaggi
DESCRIPTION:Tempo di Vivere - Campo Estivo per ragazzi - Luglio 2026\nCateg
 oria: Eventi Ecovillaggi\nLink: https://ecovillaggi.it/index.php?option=co
 m_jem&view=event&id=455:tempo-di-vivere-campo-estivo-per-ragazzi-luglio-20
 26\n
DTSTART;TZID=Europe/Rome:20260723T160000
DTEND;TZID=Europe/Rome:20260728T110000
LOCATION:Ecovillaggio Tempo di Vivere\,Loc. Camera Vecchia di Calenzano\,29
 021 Bettola\,Italy
SUMMARY:Tempo di Vivere - Campo Estivo per ragazzi - Luglio 2026
URL:https://ecovillaggi.it/index.php?option=com_jem&view=event&id=455:tempo
 -di-vivere-campo-estivo-per-ragazzi-luglio-2026
END:VEVENT
BEGIN:VEVENT
UID:event455@ecovillaggi.it
DTSTAMP:20260424T183703Z
CATEGORIES:Eventi Ecovillaggi
DESCRIPTION:Tempo di Vivere - Campo Estivo per ragazzi - Luglio 2026\nCateg
 oria: Eventi Ecovillaggi\nLink: https://ecovillaggi.it/index.php?option=co
 m_jem&view=event&id=455:tempo-di-vivere-campo-estivo-per-ragazzi-luglio-20
 26\n
DTSTART;TZID=Europe/Rome:20260724T160000
DTEND;TZID=Europe/Rome:20260728T110000
LOCATION:Ecovillaggio Tempo di Vivere\,Loc. Camera Vecchia di Calenzano\,29
 021 Bettola\,Italy
SUMMARY:Tempo di Vivere - Campo Estivo per ragazzi - Luglio 2026
URL:https://ecovillaggi.it/index.php?option=com_jem&view=event&id=455:tempo
 -di-vivere-campo-estivo-per-ragazzi-luglio-2026
END:VEVENT
BEGIN:VEVENT
UID:event455@ecovillaggi.it
DTSTAMP:20260424T183703Z
CATEGORIES:Eventi Ecovillaggi
DESCRIPTION:Tempo di Vivere - Campo Estivo per ragazzi - Luglio 2026\nCateg
 oria: Eventi Ecovillaggi\nLink: https://ecovillaggi.it/index.php?option=co
 m_jem&view=event&id=455:tempo-di-vivere-campo-estivo-per-ragazzi-luglio-20
 26\n
DTSTART;TZID=Europe/Rome:20260725T160000
DTEND;TZID=Europe/Rome:20260728T110000
LOCATION:Ecovillaggio Tempo di Vivere\,Loc. Camera Vecchia di Calenzano\,29
 021 Bettola\,Italy
SUMMARY:Tempo di Vivere - Campo Estivo per ragazzi - Luglio 2026
URL:https://ecovillaggi.it/index.php?option=com_jem&view=event&id=455:tempo
 -di-vivere-campo-estivo-per-ragazzi-luglio-2026
END:VEVENT
BEGIN:VEVENT
UID:event455@ecovillaggi.it
DTSTAMP:20260424T183703Z
CATEGORIES:Eventi Ecovillaggi
DESCRIPTION:Tempo di Vivere - Campo Estivo per ragazzi - Luglio 2026\nCateg
 oria: Eventi Ecovillaggi\nLink: https://ecovillaggi.it/index.php?option=co
 m_jem&view=event&id=455:tempo-di-vivere-campo-estivo-per-ragazzi-luglio-20
 26\n
DTSTART;TZID=Europe/Rome:20260726T160000
DTEND;TZID=Europe/Rome:20260728T110000
LOCATION:Ecovillaggio Tempo di Vivere\,Loc. Camera Vecchia di Calenzano\,29
 021 Bettola\,Italy
SUMMARY:Tempo di Vivere - Campo Estivo per ragazzi - Luglio 2026
URL:https://ecovillaggi.it/index.php?option=com_jem&view=event&id=455:tempo
 -di-vivere-campo-estivo-per-ragazzi-luglio-2026
END:VEVENT
BEGIN:VEVENT
UID:event455@ecovillaggi.it
DTSTAMP:20260424T183703Z
CATEGORIES:Eventi Ecovillaggi
DESCRIPTION:Tempo di Vivere - Campo Estivo per ragazzi - Luglio 2026\nCateg
 oria: Eventi Ecovillaggi\nLink: https://ecovillaggi.it/index.php?option=co
 m_jem&view=event&id=455:tempo-di-vivere-campo-estivo-per-ragazzi-luglio-20
 26\n
DTSTART;TZID=Europe/Rome:20260727T160000
DTEND;TZID=Europe/Rome:20260728T110000
LOCATION:Ecovillaggio Tempo di Vivere\,Loc. Camera Vecchia di Calenzano\,29
 021 Bettola\,Italy
SUMMARY:Tempo di Vivere - Campo Estivo per ragazzi - Luglio 2026
URL:https://ecovillaggi.it/index.php?option=com_jem&view=event&id=455:tempo
 -di-vivere-campo-estivo-per-ragazzi-luglio-2026
END:VEVENT
BEGIN:VEVENT
UID:event455@ecovillaggi.it
DTSTAMP:20260424T183703Z
CATEGORIES:Eventi Ecovillaggi
DESCRIPTION:Tempo di Vivere - Campo Estivo per ragazzi - Luglio 2026\nCateg
 oria: Eventi Ecovillaggi\nLink: https://ecovillaggi.it/index.php?option=co
 m_jem&view=event&id=455:tempo-di-vivere-campo-estivo-per-ragazzi-luglio-20
 26\n
DTSTART;TZID=Europe/Rome:20260728T160000
DTEND;TZID=Europe/Rome:20260729T110000
LOCATION:Ecovillaggio Tempo di Vivere\,Loc. Camera Vecchia di Calenzano\,29
 021 Bettola\,Italy
SUMMARY:Tempo di Vivere - Campo Estivo per ragazzi - Luglio 2026
URL:https://ecovillaggi.it/index.php?option=com_jem&view=event&id=455:tempo
 -di-vivere-campo-estivo-per-ragazzi-luglio-2026
END:VEVENT
END:VCALENDAR