BEGIN:VCALENDAR
VERSION:2.0
PRODID:-//185.201.65.222//NONSGML kigkonsult.se iCalcreator 2.20//
CALSCALE:GREGORIAN
METHOD:PUBLISH
X-WR-TIMEZONE:Europe/Rome
BEGIN:VEVENT
UID:event420@ecovillaggi.it
DTSTAMP:20260424T171209Z
CATEGORIES:Eventi Ecovillaggi
DESCRIPTION:Tempo di Vivere: In viaggio verso me - L’avventura di diventare
  grandi\nCategoria: Eventi Ecovillaggi\nLink: https://ecovillaggi.it/index
 .php?option=com_jem&view=event&id=420:ragazzi-esperienza-comunita-viaggio-
 interiore-avventura-diventare-grandi2\n
DTSTART;TZID=Europe/Rome:20260530T100000
DTEND;TZID=Europe/Rome:20260602T180000
LOCATION:Ecovillaggio Tempo di Vivere\,Loc. Camera Vecchia di Calenzano\,29
 021 Bettola\,Italy
SUMMARY:Tempo di Vivere: In viaggio verso me - L’avventura di diventare gra
 ndi
URL:https://ecovillaggi.it/index.php?option=com_jem&view=event&id=420:ragaz
 zi-esperienza-comunita-viaggio-interiore-avventura-diventare-grandi2
END:VEVENT
BEGIN:VEVENT
UID:event420@ecovillaggi.it
DTSTAMP:20260424T171209Z
CATEGORIES:Eventi Ecovillaggi
DESCRIPTION:Tempo di Vivere: In viaggio verso me - L’avventura di diventare
  grandi\nCategoria: Eventi Ecovillaggi\nLink: https://ecovillaggi.it/index
 .php?option=com_jem&view=event&id=420:ragazzi-esperienza-comunita-viaggio-
 interiore-avventura-diventare-grandi2\n
DTSTART;TZID=Europe/Rome:20260601T100000
DTEND;TZID=Europe/Rome:20260602T180000
LOCATION:Ecovillaggio Tempo di Vivere\,Loc. Camera Vecchia di Calenzano\,29
 021 Bettola\,Italy
SUMMARY:Tempo di Vivere: In viaggio verso me - L’avventura di diventare gra
 ndi
URL:https://ecovillaggi.it/index.php?option=com_jem&view=event&id=420:ragaz
 zi-esperienza-comunita-viaggio-interiore-avventura-diventare-grandi2
END:VEVENT
BEGIN:VEVENT
UID:event420@ecovillaggi.it
DTSTAMP:20260424T171209Z
CATEGORIES:Eventi Ecovillaggi
DESCRIPTION:Tempo di Vivere: In viaggio verso me - L’avventura di diventare
  grandi\nCategoria: Eventi Ecovillaggi\nLink: https://ecovillaggi.it/index
 .php?option=com_jem&view=event&id=420:ragazzi-esperienza-comunita-viaggio-
 interiore-avventura-diventare-grandi2\n
DTSTART;TZID=Europe/Rome:20260602T100000
DTEND;TZID=Europe/Rome:20260602T180000
LOCATION:Ecovillaggio Tempo di Vivere\,Loc. Camera Vecchia di Calenzano\,29
 021 Bettola\,Italy
SUMMARY:Tempo di Vivere: In viaggio verso me - L’avventura di diventare gra
 ndi
URL:https://ecovillaggi.it/index.php?option=com_jem&view=event&id=420:ragaz
 zi-esperienza-comunita-viaggio-interiore-avventura-diventare-grandi2
END:VEVENT
END:VCALENDAR