BEGIN:VCALENDAR
VERSION:2.0
PRODID:-//185.201.65.222//NONSGML kigkonsult.se iCalcreator 2.20//
CALSCALE:GREGORIAN
METHOD:PUBLISH
X-WR-TIMEZONE:Europe/Rome
BEGIN:VEVENT
UID:event445@ecovillaggi.it
DTSTAMP:20260424T154202Z
CATEGORIES:Eventi Ecovillaggi
DESCRIPTION:Tempo di Vivere - I weekend del Cambiamento - 5 passi per torna
 re a te\nCategoria: Eventi Ecovillaggi\nLink: https://ecovillaggi.it/index
 .php?option=com_jem&view=event&id=445:weekend-del-cambiamento-tdv\n
DTSTART;TZID=Europe/Rome:20260516T100000
DTEND;TZID=Europe/Rome:20260517T173000
LOCATION:Ecovillaggio Tempo di Vivere\,Loc. Camera Vecchia di Calenzano\,29
 021 Bettola\,Italy
SUMMARY:Tempo di Vivere - I weekend del Cambiamento - 5 passi per tornare a
  te
URL:https://ecovillaggi.it/index.php?option=com_jem&view=event&id=445:weeke
 nd-del-cambiamento-tdv
END:VEVENT
BEGIN:VEVENT
UID:event445@ecovillaggi.it
DTSTAMP:20260424T154202Z
CATEGORIES:Eventi Ecovillaggi
DESCRIPTION:Tempo di Vivere - I weekend del Cambiamento - 5 passi per torna
 re a te\nCategoria: Eventi Ecovillaggi\nLink: https://ecovillaggi.it/index
 .php?option=com_jem&view=event&id=445:weekend-del-cambiamento-tdv\n
DTSTART;TZID=Europe/Rome:20260517T100000
DTEND;TZID=Europe/Rome:20260517T173000
LOCATION:Ecovillaggio Tempo di Vivere\,Loc. Camera Vecchia di Calenzano\,29
 021 Bettola\,Italy
SUMMARY:Tempo di Vivere - I weekend del Cambiamento - 5 passi per tornare a
  te
URL:https://ecovillaggi.it/index.php?option=com_jem&view=event&id=445:weeke
 nd-del-cambiamento-tdv
END:VEVENT
BEGIN:VEVENT
UID:event420@ecovillaggi.it
DTSTAMP:20260424T154202Z
CATEGORIES:Eventi Ecovillaggi
DESCRIPTION:Tempo di Vivere: In viaggio verso me - L’avventura di diventare
  grandi\nCategoria: Eventi Ecovillaggi\nLink: https://ecovillaggi.it/index
 .php?option=com_jem&view=event&id=420:ragazzi-esperienza-comunita-viaggio-
 interiore-avventura-diventare-grandi2\n
DTSTART;TZID=Europe/Rome:20260530T100000
DTEND;TZID=Europe/Rome:20260602T180000
LOCATION:Ecovillaggio Tempo di Vivere\,Loc. Camera Vecchia di Calenzano\,29
 021 Bettola\,Italy
SUMMARY:Tempo di Vivere: In viaggio verso me - L’avventura di diventare gra
 ndi
URL:https://ecovillaggi.it/index.php?option=com_jem&view=event&id=420:ragaz
 zi-esperienza-comunita-viaggio-interiore-avventura-diventare-grandi2
END:VEVENT
BEGIN:VEVENT
UID:event420@ecovillaggi.it
DTSTAMP:20260424T154202Z
CATEGORIES:Eventi Ecovillaggi
DESCRIPTION:Tempo di Vivere: In viaggio verso me - L’avventura di diventare
  grandi\nCategoria: Eventi Ecovillaggi\nLink: https://ecovillaggi.it/index
 .php?option=com_jem&view=event&id=420:ragazzi-esperienza-comunita-viaggio-
 interiore-avventura-diventare-grandi2\n
DTSTART;TZID=Europe/Rome:20260531T100000
DTEND;TZID=Europe/Rome:20260602T180000
LOCATION:Ecovillaggio Tempo di Vivere\,Loc. Camera Vecchia di Calenzano\,29
 021 Bettola\,Italy
SUMMARY:Tempo di Vivere: In viaggio verso me - L’avventura di diventare gra
 ndi
URL:https://ecovillaggi.it/index.php?option=com_jem&view=event&id=420:ragaz
 zi-esperienza-comunita-viaggio-interiore-avventura-diventare-grandi2
END:VEVENT
BEGIN:VEVENT
UID:event456@ecovillaggi.it
DTSTAMP:20260424T154202Z
CATEGORIES:Eventi soci sostenitori
DESCRIPTION:Alberi famigliari: ritiro di arteterapia \nCategoria: Eventi so
 ci sostenitori\nLink: https://ecovillaggi.it/index.php?option=com_jem&view
 =event&id=456:alberi-famigliari-ritiro-di-arteterapia-21-24-maggio-2026\n
DTSTART;TZID=Europe/Rome:20260521T150000
DTEND;TZID=Europe/Rome:20260524T150000
SUMMARY:Alberi famigliari: ritiro di arteterapia 
URL:https://ecovillaggi.it/index.php?option=com_jem&view=event&id=456:alber
 i-famigliari-ritiro-di-arteterapia-21-24-maggio-2026
END:VEVENT
BEGIN:VEVENT
UID:event456@ecovillaggi.it
DTSTAMP:20260424T154202Z
CATEGORIES:Eventi soci sostenitori
DESCRIPTION:Alberi famigliari: ritiro di arteterapia \nCategoria: Eventi so
 ci sostenitori\nLink: https://ecovillaggi.it/index.php?option=com_jem&view
 =event&id=456:alberi-famigliari-ritiro-di-arteterapia-21-24-maggio-2026\n
DTSTART;TZID=Europe/Rome:20260522T150000
DTEND;TZID=Europe/Rome:20260524T150000
SUMMARY:Alberi famigliari: ritiro di arteterapia 
URL:https://ecovillaggi.it/index.php?option=com_jem&view=event&id=456:alber
 i-famigliari-ritiro-di-arteterapia-21-24-maggio-2026
END:VEVENT
BEGIN:VEVENT
UID:event456@ecovillaggi.it
DTSTAMP:20260424T154202Z
CATEGORIES:Eventi soci sostenitori
DESCRIPTION:Alberi famigliari: ritiro di arteterapia \nCategoria: Eventi so
 ci sostenitori\nLink: https://ecovillaggi.it/index.php?option=com_jem&view
 =event&id=456:alberi-famigliari-ritiro-di-arteterapia-21-24-maggio-2026\n
DTSTART;TZID=Europe/Rome:20260523T150000
DTEND;TZID=Europe/Rome:20260524T150000
SUMMARY:Alberi famigliari: ritiro di arteterapia 
URL:https://ecovillaggi.it/index.php?option=com_jem&view=event&id=456:alber
 i-famigliari-ritiro-di-arteterapia-21-24-maggio-2026
END:VEVENT
BEGIN:VEVENT
UID:event456@ecovillaggi.it
DTSTAMP:20260424T154202Z
CATEGORIES:Eventi soci sostenitori
DESCRIPTION:Alberi famigliari: ritiro di arteterapia \nCategoria: Eventi so
 ci sostenitori\nLink: https://ecovillaggi.it/index.php?option=com_jem&view
 =event&id=456:alberi-famigliari-ritiro-di-arteterapia-21-24-maggio-2026\n
DTSTART;TZID=Europe/Rome:20260524T150000
DTEND;TZID=Europe/Rome:20260524T150000
SUMMARY:Alberi famigliari: ritiro di arteterapia 
URL:https://ecovillaggi.it/index.php?option=com_jem&view=event&id=456:alber
 i-famigliari-ritiro-di-arteterapia-21-24-maggio-2026
END:VEVENT
END:VCALENDAR