BEGIN:VCALENDAR
VERSION:2.0
PRODID:-//185.201.65.222//NONSGML kigkonsult.se iCalcreator 2.20//
CALSCALE:GREGORIAN
METHOD:PUBLISH
X-WR-TIMEZONE:Europe/Rome
BEGIN:VEVENT
UID:event446@ecovillaggi.it
DTSTAMP:20260424T140302Z
CATEGORIES:Eventi Ecovillaggi
DESCRIPTION:Tempo di Vivere - I weekend del Cambiamento - 5 passi per torna
 re a te\nCategoria: Eventi Ecovillaggi\nLink: https://ecovillaggi.it/index
 .php?option=com_jem&view=event&id=446:weekend-del-cambiamento-tdv\n
DTSTART;TZID=Europe/Rome:20260425T100000
DTEND;TZID=Europe/Rome:20260426T173000
LOCATION:Ecovillaggio Tempo di Vivere\,Loc. Camera Vecchia di Calenzano\,29
 021 Bettola\,Italy
SUMMARY:Tempo di Vivere - I weekend del Cambiamento - 5 passi per tornare a
  te
URL:https://ecovillaggi.it/index.php?option=com_jem&view=event&id=446:weeke
 nd-del-cambiamento-tdv
END:VEVENT
BEGIN:VEVENT
UID:event446@ecovillaggi.it
DTSTAMP:20260424T140302Z
CATEGORIES:Eventi Ecovillaggi
DESCRIPTION:Tempo di Vivere - I weekend del Cambiamento - 5 passi per torna
 re a te\nCategoria: Eventi Ecovillaggi\nLink: https://ecovillaggi.it/index
 .php?option=com_jem&view=event&id=446:weekend-del-cambiamento-tdv\n
DTSTART;TZID=Europe/Rome:20260426T100000
DTEND;TZID=Europe/Rome:20260426T173000
LOCATION:Ecovillaggio Tempo di Vivere\,Loc. Camera Vecchia di Calenzano\,29
 021 Bettola\,Italy
SUMMARY:Tempo di Vivere - I weekend del Cambiamento - 5 passi per tornare a
  te
URL:https://ecovillaggi.it/index.php?option=com_jem&view=event&id=446:weeke
 nd-del-cambiamento-tdv
END:VEVENT
END:VCALENDAR